BEGIN:VCALENDAR
VERSION:2.0
PRODID:-//ChamberMaster//Event Calendar 2.0//EN
METHOD:PUBLISH
X-PUBLISHED-TTL:P3D
REFRESH-INTERVAL:P3D
CALSCALE:GREGORIAN
BEGIN:VEVENT
DTSTART:20241030T133000Z
DTEND:20241030T170000Z
X-MICROSOFT-CDO-ALLDAYEVENT:FALSE
SUMMARY:Emotional Intelligence Seminar
DESCRIPTION:Free Emotional Intelligence Seminar\n\n\n\nWednesday\, October 30\, 2024\, 9:30 AM - 1:00 PM\n\nChattahoochee Technical College\, North Metro Campus\n\nBuilding D\, North Metro Hall\n\n5198 Ross Road\, Acworth\, GA 30102\n\n\n\nRegister Online\n\n\n\niWORKS\, in partnership with WorkSource Northwest Georgia\, Northwest Georgia Regional Commission and Chattahoochee Technical College\, is offering a FREE Emotional Intelligence Seminar for the employees of our local manufacturers in the Bartow\, Catoosa\, Chattooga\, Dade\, Fannin\, Floyd\, Gilmer\, Gordon\, Haralson\, Murray\, Paulding\, Pickens\, Polk\, Walker\, and Whitfield Counties.\n\n\n\nThis seminar will explore key topics to equip you with tools to enhance your emotional intelligence in the workplace\, fostering successful relationships.\n\n	Define and practice: self-management\, self-awareness\, self-regulation\, self-motivation\, and empathy.\n	Understand\, use and manage your emotions.\n	Verbally communicate with others.\n	Successful non-verbal communication with others.\n	Identify the benefits of emotional intelligence.\n	Relate emotional intelligence to the workplace.\n	Balance optimism and pessimism.\n	Effectively impact others.
X-ALT-DESC;FMTTYPE=text/html:Free Emotional Intelligence Seminar<br />\n<br />\nWednesday\, October 30\, 2024\, 9:30 AM - 1:00 PM<br />\nChattahoochee Technical College\, North Metro Campus<br />\nBuilding D\, North Metro Hall<br />\n5198 Ross Road\, Acworth\, GA 30102<br />\n<br />\n<a href="https://www2.registerblast.com/ctcedt/Event/EventDetailStep/558" target="_blank">Register Online</a><br />\n<br />\niWORKS\, in partnership with WorkSource Northwest Georgia\, Northwest Georgia Regional Commission and Chattahoochee Technical College\, is offering a FREE Emotional Intelligence Seminar for the employees of our local manufacturers in the Bartow\, Catoosa\, Chattooga\, Dade\, Fannin\, Floyd\, Gilmer\, Gordon\, Haralson\, Murray\, Paulding\, Pickens\, Polk\, Walker\, and Whitfield Counties.<br />\n<br />\nThis seminar will explore key topics to equip you with tools to enhance your emotional intelligence in the workplace\, fostering successful relationships.\n<ul>\n	<li>Define and practice: self-management\, self-awareness\, self-regulation\, self-motivation\, and empathy.</li>\n	<li>Understand\, use and manage your emotions.</li>\n	<li>Verbally communicate with others.</li>\n	<li>Successful non-verbal communication with others.</li>\n	<li>Identify the benefits of emotional intelligence.</li>\n	<li>Relate emotional intelligence to the workplace.</li>\n	<li>Balance optimism and pessimism.</li>\n	<li>Effectively impact others.</li>\n</ul>\n
LOCATION:Chattahoochee Technical College\, North Metro Campus Building D\, North Metro Hall 5198 Ross Road\, Acworth\, GA 30102
UID:e.1202.166953
SEQUENCE:3
DTSTAMP:20260422T172116Z
URL:https://business.cartersvillechamber.com/events/details/emotional-intelligence-seminar-166953
END:VEVENT

END:VCALENDAR
