BEGIN:VCALENDAR
VERSION:2.0
PRODID:-//ChamberMaster//Event Calendar 2.0//EN
METHOD:PUBLISH
X-PUBLISHED-TTL:P3D
REFRESH-INTERVAL:P3D
CALSCALE:GREGORIAN
BEGIN:VEVENT
DTSTART:20240531T120000Z
DTEND:20240531T180000Z
X-MICROSOFT-CDO-ALLDAYEVENT:FALSE
SUMMARY:Etowah River Float Cleanup
DESCRIPTION:Kick off your weekend on the Etowah River with Keep Rome Floyd Beautiful\, Keep Bartow Beautiful\, and Georgia Power for a River Cleanup! Bring your own Kayak\, Canoe! Lunch provided after for all volunteers! Meet at Neels Landing at 8:00 AM for safety briefing\, then spend the day cleaning along the river while enjoying nature and friends! Families and kids are welcome! Don't have a canoe or kayak? You can rent one\, NO CHARGE to you\, please register to secure your spot on the float!
X-ALT-DESC;FMTTYPE=text/html:Kick off your weekend on the Etowah River with Keep Rome Floyd Beautiful\, Keep Bartow Beautiful\, and Georgia Power for a River Cleanup! Bring your own Kayak\, Canoe! Lunch provided after for all volunteers! Meet at Neels Landing at 8:00 AM for safety briefing\, then spend the day cleaning along the river while enjoying nature and friends! Families and kids are welcome! Don&#39\;t have a canoe or kayak? You can rent one\, NO CHARGE to you\, please register to secure your spot on the float!
LOCATION:Neels Landing Macedonia Rd. 411 Etowah Ramp 20 Kingston GA\, 30145
UID:e.1202.164812
SEQUENCE:3
DTSTAMP:20260423T003627Z
URL:https://business.cartersvillechamber.com/events/details/etowah-river-float-cleanup-164812
END:VEVENT

END:VCALENDAR
