BEGIN:VCALENDAR
VERSION:2.0
PRODID:-//ChamberMaster//Event Calendar 2.0//EN
METHOD:PUBLISH
X-PUBLISHED-TTL:P3D
REFRESH-INTERVAL:P3D
CALSCALE:GREGORIAN
BEGIN:VEVENT
DTSTART:20241118T153000Z
DTEND:20241118T163000Z
X-MICROSOFT-CDO-ALLDAYEVENT:FALSE
SUMMARY:Euharlee Monday Makers- Gnomes
DESCRIPTION:Tis the season of Gnome for the Holidays. Join us at the Emmie Nelson Library in Euharlee to make an adorable gnome for your home to welcome in the holiday season.
X-ALT-DESC;FMTTYPE=text/html:<span style="color:rgb(62\, 62\, 62)\; font-family:system-ui\; font-size:12.8px">Tis the season of Gnome for the Holidays. Join us at the Emmie Nelson Library in Euharlee to make an adorable gnome for your home to welcome in the holiday season.&nbsp\;</span>
LOCATION:Emmie Nelson Library 116 Covered Bridge Road Euharlee GA 30120 US
UID:e.1202.167365
SEQUENCE:3
DTSTAMP:20260422T155057Z
URL:https://business.cartersvillechamber.com/events/details/euharlee-monday-makers-gnomes-167365
END:VEVENT

END:VCALENDAR
