BEGIN:VCALENDAR
VERSION:2.0
PRODID:-//ChamberMaster//Event Calendar 2.0//EN
METHOD:PUBLISH
X-PUBLISHED-TTL:P3D
REFRESH-INTERVAL:P3D
CALSCALE:GREGORIAN
BEGIN:VEVENT
DTSTART:20240926T230000Z
DTEND:20240927T000000Z
X-MICROSOFT-CDO-ALLDAYEVENT:FALSE
SUMMARY:Evening Lecture: Home Grown\, Hand Made
DESCRIPTION:The Peachtree Handspinners Guild and the Etowah Valley Handspinners Guild are joining us for the opening of Home Grown\, Hand Made: A Fiber Arts Exhibit. This exhibit will feature a variety of handspun textiles\, including woven\, knit\, crocheted\, and sewn pieces crafted from locally raised fibers. For the lecture\, a panel discussion will be led by a guild moderator\, with artists sharing their techniques and experiences\, answering questions\, and demonstrating their tools. The Bartow History Museum's permanent collection will also highlight the rich textile history of Cartersville and Bartow County.
X-ALT-DESC;FMTTYPE=text/html:The Peachtree Handspinners Guild and the Etowah Valley Handspinners Guild are joining us for the opening of Home Grown\, Hand Made: A Fiber Arts Exhibit. This exhibit will feature a variety of handspun textiles\, including woven\, knit\, crocheted\, and sewn pieces crafted from locally raised fibers. For the lecture\, a panel discussion will be led by a guild moderator\, with artists sharing their techniques and experiences\, answering questions\, and demonstrating their tools. The Bartow History Museum&rsquo\;s permanent collection will also highlight the rich textile history of Cartersville and Bartow County.
LOCATION:Bartow History Museum 4 E Church St Cartersville\, GA 30120
UID:e.1202.166281
SEQUENCE:3
DTSTAMP:20260422T185435Z
URL:https://business.cartersvillechamber.com/events/details/evening-lecture-home-grown-hand-made-166281
END:VEVENT

END:VCALENDAR
