BEGIN:VCALENDAR
VERSION:2.0
PRODID:-//ChamberMaster//Event Calendar 2.0//EN
METHOD:PUBLISH
X-PUBLISHED-TTL:P3D
REFRESH-INTERVAL:P3D
CALSCALE:GREGORIAN
BEGIN:VEVENT
DTSTART:20250529T230000Z
DTEND:20250530T000000Z
X-MICROSOFT-CDO-ALLDAYEVENT:FALSE
SUMMARY:Evening Lecture: Sip & Stroll – Moonshinin’
DESCRIPTION:Join the Bartow History Museum for an unforgettable evening stroll through historic downtown Cartersville. Explore the fascinating history of moonshining in the South\, with a special focus on Bartow County's own stories of distilling and brewing. Guests will enjoy spirit tastings and light appetizers at various stops along the stroll. This event is open to those aged 21 and older and is priced at $15 for non-members\, with a discount for museum members. Don't miss this opportunity to discover a unique part of our Southern heritage!
X-ALT-DESC;FMTTYPE=text/html:Join the Bartow History Museum for an unforgettable evening stroll through historic downtown Cartersville. Explore the fascinating history of moonshining in the South\, with a special focus on Bartow County&rsquo\;s own stories of distilling and brewing. Guests will enjoy spirit tastings and light appetizers at various stops along the stroll. This event is open to those aged 21 and older and is priced at $15 for non-members\, with a discount for museum members. Don&rsquo\;t miss this opportunity to discover a unique part of our Southern heritage!
LOCATION:Bartow History Museum 4 E Church St. Cartersville\, GA 30120
UID:e.1202.170676
SEQUENCE:3
DTSTAMP:20260422T080411Z
URL:https://business.cartersvillechamber.com/events/details/evening-lecture-sip-stroll-moonshinin-170676
END:VEVENT

END:VCALENDAR
