BEGIN:VCALENDAR
VERSION:2.0
PRODID:-//ChamberMaster//Event Calendar 2.0//EN
METHOD:PUBLISH
X-PUBLISHED-TTL:P3D
REFRESH-INTERVAL:P3D
CALSCALE:GREGORIAN
BEGIN:VEVENT
DTSTART:20250117T230000Z
DTEND:20250118T030000Z
X-MICROSOFT-CDO-ALLDAYEVENT:FALSE
SUMMARY:Evening Sky Watch
DESCRIPTION:Come visit our Observatory for a rare look through our telescope\, where we will be showing some of our favorite celestial objects in the evening sky. Possible sights might include: the Andromeda Galaxy\, star cluster M2\, and Saturn. This event is subject to cancellation due to cloudy skies or inclement weather. The Observatory is not heated or air-conditioned\, so please dress appropriately. Please note that the Observatory and outdoor restrooms will be open\, but the Museum will be closed.
X-ALT-DESC;FMTTYPE=text/html:Come visit our Observatory for a rare look through our telescope\, where we will be showing some of our favorite celestial objects in the evening sky. Possible sights might include: the Andromeda Galaxy\, star cluster M2\, and Saturn. This event is subject to cancellation due to cloudy skies or inclement weather. The Observatory is not heated or air-conditioned\, so please dress appropriately. Please note that the Observatory and outdoor restrooms will be open\, but the Museum will be closed.
LOCATION:Tellus Science Museum
UID:e.1202.168076
SEQUENCE:3
DTSTAMP:20260422T130307Z
URL:https://business.cartersvillechamber.com/events/details/evening-sky-watch-01-17-2025-168076
END:VEVENT

END:VCALENDAR
