BEGIN:VCALENDAR
VERSION:2.0
PRODID:-//ChamberMaster//Event Calendar 2.0//EN
METHOD:PUBLISH
X-PUBLISHED-TTL:P3D
REFRESH-INTERVAL:P3D
CALSCALE:GREGORIAN
BEGIN:VEVENT
DTSTART:20260113T190000Z
DTEND:20260113T213000Z
X-MICROSOFT-CDO-ALLDAYEVENT:FALSE
SUMMARY:Everyday AI: A Beginner’s Guide to Using ChatGPT
DESCRIPTION:Discover how ChatGPT can make everyday life easier\, more productive\, and fun in this hands-on beginner workshop! You'll learn what ChatGPT is\, how it differs from Google\, and how to use it for practical tasks like writing thank-you notes\, creating meal plans\, and organizing to-do lists. You'll also explore ways to boost work productivity summarizing emails\, drafting product descriptions\, and planning events plus try out creative uses like generating poems\, trivia\, and workouts. Along the way\, you'll practice asking better questions to get the best results and leave with practical skills you can start using right away in your daily life.
X-ALT-DESC;FMTTYPE=text/html:Discover how ChatGPT can make everyday life easier\, more productive\, and fun in this hands-on beginner workshop! You&rsquo\;ll learn what ChatGPT is\, how it differs from Google\, and how to use it for practical tasks like writing thank-you notes\, creating meal plans\, and organizing to-do lists. You&rsquo\;ll also explore ways to boost work productivity&mdash\;summarizing emails\, drafting product descriptions\, and planning events&mdash\;plus try out creative uses like generating poems\, trivia\, and workouts. Along the way\, you&rsquo\;ll practice asking better questions to get the best results and leave with practical skills you can start using right away in your daily life.
LOCATION:GHC Cartersville Campus
UID:e.1202.171862
SEQUENCE:3
DTSTAMP:20260421T201208Z
URL:https://business.cartersvillechamber.com/events/details/everyday-ai-a-beginner-s-guide-to-using-chatgpt-171862
END:VEVENT

END:VCALENDAR
