BEGIN:VCALENDAR
VERSION:2.0
PRODID:-//ChamberMaster//Event Calendar 2.0//EN
METHOD:PUBLISH
X-PUBLISHED-TTL:P3D
REFRESH-INTERVAL:P3D
CALSCALE:GREGORIAN
BEGIN:VEVENT
DTSTART:20240423T220000Z
DTEND:20240424T000000Z
X-MICROSOFT-CDO-ALLDAYEVENT:FALSE
SUMMARY:EVHS Presents: WWII Navajo Code Talkers
DESCRIPTION:Wanda Patterson shares the fascinating story of 29 Navajos who created a secret code using words from their complex\, unwritten language to baffle the Japanese enemy in the Pacific.\n\n\n\nThe skill\, speed\, and accuracy of the "code talkers" is an amazing story of Navajo bravery and ingenuity which remained classified until 1968\, but is now receiving the recognition it so richly deserves.  EVHS reception at 6 pm\; presentation starts at 6:30 pm.
X-ALT-DESC;FMTTYPE=text/html:<span style="background-color:rgb(255\, 255\, 255)\; color:rgb(62\, 62\, 62)\; font-family:system-ui\; font-size:12.8px">Wanda Patterson shares the fascinating story of 29 Navajos who created a secret code using words from their complex\, unwritten language to baffle the Japanese enemy in the Pacific.</span><br />\n<br />\n<span style="background-color:rgb(255\, 255\, 255)\; color:rgb(62\, 62\, 62)\; font-family:system-ui\; font-size:12.8px">The skill\, speed\, and accuracy of the &ldquo\;code talkers&rdquo\; is an amazing story of Navajo bravery and ingenuity which remained classified until 1968\, but is now receiving the recognition it so richly deserves. &nbsp\;EVHS reception at 6 pm\; presentation starts at 6:30 pm.</span>
LOCATION:429 West Main Street Cartersville\, GA 30120
UID:e.1202.164384
SEQUENCE:3
DTSTAMP:20260423T021116Z
URL:https://business.cartersvillechamber.com/events/details/evhs-presents-wwii-navajo-code-talkers-164384
END:VEVENT

END:VCALENDAR
