BEGIN:VCALENDAR
VERSION:2.0
PRODID:-//ChamberMaster//Event Calendar 2.0//EN
METHOD:PUBLISH
X-PUBLISHED-TTL:P3D
REFRESH-INTERVAL:P3D
CALSCALE:GREGORIAN
BEGIN:VEVENT
DTSTART:20260407T130000Z
DTEND:20260407T170000Z
X-MICROSOFT-CDO-ALLDAYEVENT:FALSE
SUMMARY:Excel: Data Analysis
DESCRIPTION:Designed for experienced Excel users\, this course explores powerful analytical features to elevate your data skills. Participants will learn to effectively apply Excel's What-If Analysis tools\, including Goal Seeker\, Solver\, Scenario Manager\, and Data Tables to model and evaluate complex scenarios.
X-ALT-DESC;FMTTYPE=text/html:Designed for experienced Excel users\, this course explores powerful analytical features to elevate your data skills. Participants will learn to effectively apply Excel&rsquo\;s What-If Analysis tools\, including Goal Seeker\, Solver\, Scenario Manager\, and Data Tables to model and evaluate complex scenarios.
LOCATION:Georgia Highlands College 5441 Hwy 20 Cartersville\, GA 30121
UID:e.1202.173661
SEQUENCE:3
DTSTAMP:20260419T192610Z
URL:https://business.cartersvillechamber.com/events/details/excel-data-analysis-04-07-2026-173661
END:VEVENT

END:VCALENDAR
