BEGIN:VCALENDAR
VERSION:2.0
PRODID:-//ChamberMaster//Event Calendar 2.0//EN
METHOD:PUBLISH
X-PUBLISHED-TTL:P3D
REFRESH-INTERVAL:P3D
CALSCALE:GREGORIAN
BEGIN:VEVENT
DTSTART:20251104T140000Z
DTEND:20251104T170000Z
X-MICROSOFT-CDO-ALLDAYEVENT:FALSE
SUMMARY:Excel: The Basics
DESCRIPTION:Excel: The Basics
X-ALT-DESC;FMTTYPE=text/html:Excel: The Basics
LOCATION:GHC Cartersville Campus
UID:e.1202.171854
SEQUENCE:3
DTSTAMP:20260421T230656Z
URL:https://business.cartersvillechamber.com/events/details/excel-the-basics-171854
END:VEVENT

END:VCALENDAR
