BEGIN:VCALENDAR
VERSION:2.0
PRODID:-//ChamberMaster//Event Calendar 2.0//EN
METHOD:PUBLISH
X-PUBLISHED-TTL:P3D
REFRESH-INTERVAL:P3D
CALSCALE:GREGORIAN
BEGIN:VEVENT
DTSTART:20260505T140000Z
DTEND:20260505T200000Z
X-MICROSOFT-CDO-ALLDAYEVENT:FALSE
SUMMARY:Exploring Dementia: Living and Loving Through The Journey
DESCRIPTION:Discover how dementia alters the journey of life for those living with dementia and the people loving them through it.
X-ALT-DESC;FMTTYPE=text/html:Discover how dementia alters the journey of life for those living with dementia and the people loving them through it.
LOCATION:2001 Liberty Square Drive Cartersville\, GA 30121
UID:e.1202.174041
SEQUENCE:3
DTSTAMP:20260421T082130Z
URL:https://business.cartersvillechamber.com/events/details/exploring-dementia-living-and-loving-through-the-journey-174041
END:VEVENT

END:VCALENDAR
