BEGIN:VCALENDAR
VERSION:2.0
PRODID:-//ChamberMaster//Event Calendar 2.0//EN
METHOD:PUBLISH
X-PUBLISHED-TTL:P3D
REFRESH-INTERVAL:P3D
CALSCALE:GREGORIAN
BEGIN:VEVENT
DTSTART:20250621T230000Z
DTEND:20250622T010000Z
X-MICROSOFT-CDO-ALLDAYEVENT:FALSE
SUMMARY:Expressions: Art Show
DESCRIPTION:Art in Bartow and Jordan Scott Salon Present: Expressions! This art show features local artist Faith Tatum. Join us for this free catered event and enjoy your chance to meet the artist! The show will be displayed June 21 - October 10\, 2025.
X-ALT-DESC;FMTTYPE=text/html:Art in Bartow and Jordan Scott Salon Present: Expressions! This art show features local artist Faith Tatum. Join us for this free catered event and enjoy your chance to meet the artist! The show will be displayed June 21 - October 10\, 2025.
LOCATION:Jordan Scott Salon
UID:e.1202.171041
SEQUENCE:3
DTSTAMP:20260422T062944Z
URL:https://business.cartersvillechamber.com/events/details/expressions-art-show-171041
END:VEVENT

END:VCALENDAR
