BEGIN:VCALENDAR
VERSION:2.0
PRODID:-//ChamberMaster//Event Calendar 2.0//EN
METHOD:PUBLISH
X-PUBLISHED-TTL:P3D
REFRESH-INTERVAL:P3D
CALSCALE:GREGORIAN
BEGIN:VEVENT
DTSTART:20251109T150000Z
DTEND:20251109T163000Z
X-MICROSOFT-CDO-ALLDAYEVENT:FALSE
SUMMARY:Fall Arts and Crafts
DESCRIPTION:Join us as we embrace the creativity of the fall season with the help of the Muses! We'll provide all the necessary supplies\, and you'll get to keep your beautiful creations. Come along and work with our rangers to make something stunning together! We will meet at the Conference Center in the Visitor Center. For more information\, please call the Visitor Center or email us at redtopprogram@gmail.com.
X-ALT-DESC;FMTTYPE=text/html:Join us as we embrace the creativity of the fall season with the help of the Muses! We&#39\;ll provide all the necessary supplies\, and you&#39\;ll get to keep your beautiful creations. Come along and work with our rangers to make something stunning together! We will meet at the Conference Center in the Visitor Center. For more information\, please call the Visitor Center or email us at redtopprogram@gmail.com.
LOCATION:Red Top Mountain State Park 50 Lodge Rd Acworth\, GA 30102
UID:e.1202.172039
SEQUENCE:3
DTSTAMP:20260421T231045Z
URL:https://business.cartersvillechamber.com/events/details/fall-arts-and-crafts-172039
END:VEVENT

END:VCALENDAR
