BEGIN:VCALENDAR
VERSION:2.0
PRODID:-//ChamberMaster//Event Calendar 2.0//EN
METHOD:PUBLISH
X-PUBLISHED-TTL:P3D
REFRESH-INTERVAL:P3D
CALSCALE:GREGORIAN
BEGIN:VEVENT
DTSTART:20251107T150000Z
DTEND:20251107T160000Z
X-MICROSOFT-CDO-ALLDAYEVENT:FALSE
SUMMARY:Fall Bingo
DESCRIPTION:Come see what nature has to offer at Red Top as we walk the Sweetgum trail in search of items on our Bingo sheets. Start the day off right with a hike! All items can be found at Red Top this time of the year. .75 mile hike on Sweetgum Trail\, easy difficulty.
X-ALT-DESC;FMTTYPE=text/html:Come see what nature has to offer at Red Top as we walk the Sweetgum trail in search of items on our Bingo sheets. Start the day off right with a hike! All items can be found at Red Top this time of the year. .75 mile hike on Sweetgum Trail\, easy difficulty.
LOCATION:Red Top Mountain State Park 50 Lodge Rd Acworth\, GA 30102
UID:e.1202.172024
SEQUENCE:3
DTSTAMP:20260421T230656Z
URL:https://business.cartersvillechamber.com/events/details/fall-bingo-172024
END:VEVENT

END:VCALENDAR
