BEGIN:VCALENDAR
VERSION:2.0
PRODID:-//ChamberMaster//Event Calendar 2.0//EN
METHOD:PUBLISH
X-PUBLISHED-TTL:P3D
REFRESH-INTERVAL:P3D
CALSCALE:GREGORIAN
BEGIN:VEVENT
DTSTART:20251121T150000Z
DTEND:20251121T160000Z
X-MICROSOFT-CDO-ALLDAYEVENT:FALSE
SUMMARY:Fall Bingo Hike
DESCRIPTION:Come see what nature has to offer at Red Top as we walk the Sweetgum trail in search of items on our Bingo sheets. Start the day off right with a hike! All items can be found at Red Top this time of the year a 0.75-mile hike on the Sweetgum Trail\, with an easy difficulty.
X-ALT-DESC;FMTTYPE=text/html:Come see what nature has to offer at Red Top as we walk the Sweetgum trail in search of items on our Bingo sheets. Start the day off right with a hike! All items can be found at Red Top this time of the year&mdash\;a 0.75-mile hike on the Sweetgum Trail\, with an easy difficulty.
LOCATION:Red Top Mountain State Park 50 Lodge Rd Acworth\, GA 30102
UID:e.1202.172027
SEQUENCE:3
DTSTAMP:20260421T231251Z
URL:https://business.cartersvillechamber.com/events/details/fall-bingo-hike-11-21-2025-172027
END:VEVENT

END:VCALENDAR
