BEGIN:VCALENDAR
VERSION:2.0
PRODID:-//ChamberMaster//Event Calendar 2.0//EN
METHOD:PUBLISH
X-PUBLISHED-TTL:P3D
REFRESH-INTERVAL:P3D
CALSCALE:GREGORIAN
BEGIN:VEVENT
DTSTART:20260822T190000Z
DTEND:20260823T000000Z
X-MICROSOFT-CDO-ALLDAYEVENT:FALSE
SUMMARY:Family Fun Day & Car Show
DESCRIPTION:Family Fun Day & Car Show   Downtown Kingston \n\n\n\nHosted by the Kingston\, GA Downtown Development Authority (DDA)\n\nJoin us for a fun-filled evening in Downtown Kingston at our Family Fun Day & Car Show! This community event is perfect for all ages and features a variety of cars on display\, local vendors\, delicious food trucks\, and a great atmosphere for families and friends.\n\n\n\nSaturday\, August 22\, 2026\n\n3:00 PM   8:00 PM\n\n30 W Main Street\, Kingston\, GA\n\n\n\nEvent Highlights:\n\n  Car show with participant entries\n\n  Local vendors\n\n  Food trucks\n\n  Family-friendly activities\n\n\n\nNow accepting participants!\n\n\n\nWe are currently seeking vendors\, food trucks\, and car show participants to take part in this event.\n\nEmail eventsdda@kingstondda.org\n\n\n\nBring the family\, invite your friends\, and enjoy a great evening of fun\, food\, and community in Downtown Kingston!
X-ALT-DESC;FMTTYPE=text/html:Family Fun Day &amp\; Car Show &ndash\; Downtown Kingston&nbsp\;<br />\n<br />\nHosted by the Kingston\, GA Downtown Development Authority (DDA)<br />\nJoin us for a fun-filled evening in Downtown Kingston at our Family Fun Day &amp\; Car Show! This community event is perfect for all ages and features a variety of cars on display\, local vendors\, delicious food trucks\, and a great atmosphere for families and friends.<br />\n<br />\nSaturday\, August 22\, 2026<br />\n3:00 PM &ndash\; 8:00 PM<br />\n30 W Main Street\, Kingston\, GA<br />\n<br />\nEvent Highlights:<br />\n&bull\; Car show with participant entries<br />\n&bull\; Local vendors<br />\n&bull\; Food trucks<br />\n&bull\; Family-friendly activities<br />\n<br />\nNow accepting participants!<br />\n<br />\nWe are currently seeking vendors\, food trucks\, and car show participants to take part in this event.<br />\nEmail <a href="mailto:eventsdda@kingstondda.org">eventsdda@kingstondda.org</a><br />\n<br />\nBring the family\, invite your friends\, and enjoy a great evening of fun\, food\, and community in Downtown Kingston!
LOCATION:Kingston City Park 30 W. Main St. Kingston\, GA 30145
UID:e.1202.173877
SEQUENCE:3
DTSTAMP:20260421T214832Z
URL:https://business.cartersvillechamber.com/events/details/family-fun-day-car-show-173877
END:VEVENT

END:VCALENDAR
