BEGIN:VCALENDAR
VERSION:2.0
PRODID:-//ChamberMaster//Event Calendar 2.0//EN
METHOD:PUBLISH
X-PUBLISHED-TTL:P3D
REFRESH-INTERVAL:P3D
CALSCALE:GREGORIAN
BEGIN:VEVENT
DTSTART:20251209T183000Z
DTEND:20251209T193000Z
X-MICROSOFT-CDO-ALLDAYEVENT:FALSE
SUMMARY:Family Savings ‘Roll’ in the Dough
DESCRIPTION:Roll in the Dough\n\nJoin us on December 9th at 1:30 PM at our\n\nCartersville East and West locations.\n\nEnjoy Texas Roadhouse rolls and grab your free appetizer and kids meal coupons while supplies last.
X-ALT-DESC;FMTTYPE=text/html:<p>Roll in the Dough</p>\n\n<p>Join us on December 9th at 1:30 PM at our</p>\n\n<p>Cartersville East and West locations.</p>\n\n<p>Enjoy Texas Roadhouse rolls and grab your free appetizer and kids meal coupons while supplies last.</p>\n\n<div>&nbsp\;</div>\n
LOCATION:Cartersville East: 3 Ryan Blvd Cartersville GA 30121 Cartersville West: 205 Douthit Ferry Rd. Cartersville\, GA 30120.
UID:e.1202.172111
SEQUENCE:3
DTSTAMP:20260421T214833Z
URL:https://business.cartersvillechamber.com/events/details/family-savings-roll-in-the-dough-172111
END:VEVENT

END:VCALENDAR
