BEGIN:VCALENDAR
VERSION:2.0
PRODID:-//ChamberMaster//Event Calendar 2.0//EN
METHOD:PUBLISH
X-PUBLISHED-TTL:P3D
REFRESH-INTERVAL:P3D
CALSCALE:GREGORIAN
BEGIN:VEVENT
DTSTART:20240511T120000Z
DTEND:20240511T160000Z
X-MICROSOFT-CDO-ALLDAYEVENT:FALSE
SUMMARY:Cartersville Farmers Market
DESCRIPTION:This event will happen every Saturday from May through September.\n\nExperience the vibrant atmosphere of the Downtown Cartersville Farmers Market\, where you can discover a diverse array of locally sourced and fresh supplies and goodies. From crisp\, seasonal produce to handcrafted artisanal products\, the market has something for everyone.\n\nCome and explore the market\, meet the friendly vendors\, and support the local community while enjoying the delicious and wholesome offerings.
X-ALT-DESC;FMTTYPE=text/html:<span style="font-family:times new roman\,serif\;">This event will happen every Saturday from May through September.</span><br />\n<span style="font-family:times new roman\,serif\;">Experience the vibrant atmosphere of the Downtown Cartersville Farmers Market\, where you can discover a diverse array of locally sourced and fresh supplies and goodies. From crisp\, seasonal produce to handcrafted artisanal products\, the market has something for everyone.</span><br />\n<span style="font-family:times new roman\,serif\;">Come and explore the market\, meet the friendly vendors\, and support the local community while enjoying the delicious and wholesome offerings.</span>
LOCATION:1 Friendship Plaza Cartersville\, GA 30120
UID:e.1202.164193
SEQUENCE:3
DTSTAMP:20260423T004442Z
URL:https://business.cartersvillechamber.com/events/details/farmer-s-market-05-11-2024-164193
END:VEVENT

END:VCALENDAR
