BEGIN:VCALENDAR
VERSION:2.0
PRODID:-//ChamberMaster//Event Calendar 2.0//EN
METHOD:PUBLISH
X-PUBLISHED-TTL:P3D
REFRESH-INTERVAL:P3D
CALSCALE:GREGORIAN
BEGIN:VEVENT
DTSTART:20250130T230000Z
DTEND:20250131T003000Z
X-MICROSOFT-CDO-ALLDAYEVENT:FALSE
SUMMARY:Fast Friends
DESCRIPTION:Looking to expand your social circle? Make some fast friends here at the library! This is a fun\, casual event focused on forming platonic relationships over romantic ones. Light refreshments will be provided. All genders and ages 18+ are welcome! Registration is required.  To register please call 770-382-4203 ext. 138.
X-ALT-DESC;FMTTYPE=text/html:<div>Looking to expand your social circle? Make some fast friends here at the library! This is a fun\, casual event focused on forming platonic relationships over romantic ones. Light refreshments will be provided. All genders and ages 18+ are welcome! Registration is required.&nbsp\; To register please call 770-382-4203 ext. 138.</div>\n\n<div>&nbsp\;</div>\n
LOCATION:Cartersville Library 429 West Main St Cartersville\, GA 30120
UID:e.1202.168071
SEQUENCE:3
DTSTAMP:20260422T130302Z
URL:https://business.cartersvillechamber.com/events/details/fast-friends-01-30-2025-168071
END:VEVENT

END:VCALENDAR
