BEGIN:VCALENDAR
VERSION:2.0
PRODID:-//ChamberMaster//Event Calendar 2.0//EN
METHOD:PUBLISH
X-PUBLISHED-TTL:P3D
REFRESH-INTERVAL:P3D
CALSCALE:GREGORIAN
BEGIN:VEVENT
DTSTART:20250424T220000Z
DTEND:20250424T233000Z
X-MICROSOFT-CDO-ALLDAYEVENT:FALSE
SUMMARY:Fast Friends
DESCRIPTION:Looking to expand your social circle? Make some fast friends here at the library! This is a fun\, casual event focused on forming platonic relationships over romantic ones. Light refreshments will be provided. All genders and ages 18+ are welcome! Registration is required.  To register please call 770-382-4203 ext. 138.
X-ALT-DESC;FMTTYPE=text/html:<span style="background-color:transparent\; color:rgb(0\, 0\, 0)\; font-family:arial\,helvetica\,sans-serif\; font-size:11pt">Looking to expand your social circle? Make some fast friends here at the library! This is a fun\, casual event focused on forming platonic relationships over romantic ones. Light refreshments will be provided. All genders and ages 18+ are welcome! Registration is required.&nbsp\; To register please call 770-382-4203 ext. 138.</span>\n<div>&nbsp\;</div>\n
LOCATION:Cartersville Library Meeting Room
UID:e.1202.170657
SEQUENCE:3
DTSTAMP:20260422T091801Z
URL:https://business.cartersvillechamber.com/events/details/fast-friends-04-24-2025-170657
END:VEVENT

END:VCALENDAR
