BEGIN:VCALENDAR
VERSION:2.0
PRODID:-//ChamberMaster//Event Calendar 2.0//EN
METHOD:PUBLISH
X-PUBLISHED-TTL:P3D
REFRESH-INTERVAL:P3D
CALSCALE:GREGORIAN
BEGIN:VEVENT
DTSTART:20241114T150000Z
DTEND:20241114T160000Z
X-MICROSOFT-CDO-ALLDAYEVENT:FALSE
SUMMARY:Financial Resolutions for 2025
DESCRIPTION:Please join local financial professional Glen Merritt CFP \, to discover practical strategies to improve your financial well-being. At this seminar you will learn how to improve your financial future through effective retirement planning.
X-ALT-DESC;FMTTYPE=text/html:<span style="color:rgb(62\, 62\, 62)\; font-family:system-ui\; font-size:12.8px">Please join local financial professional Glen Merritt CFP&reg\;\, to discover practical strategies to improve your financial well-being. At this seminar you will learn how to improve your&nbsp\;</span><span style="color:rgb(62\, 62\, 62)\; font-family:system-ui\; font-size:12.8px">financial future through effective retirement planning.</span>
LOCATION:Cartersville Library Classroom 429 West Main Street Cartersville GA 30120 US
UID:e.1202.167363
SEQUENCE:3
DTSTAMP:20260422T155146Z
URL:https://business.cartersvillechamber.com/events/details/financial-resolutions-for-2025-167363
END:VEVENT

END:VCALENDAR
