BEGIN:VCALENDAR
VERSION:2.0
PRODID:-//ChamberMaster//Event Calendar 2.0//EN
METHOD:PUBLISH
X-PUBLISHED-TTL:P3D
REFRESH-INTERVAL:P3D
CALSCALE:GREGORIAN
BEGIN:VEVENT
DTSTART:20250220T170000Z
DTEND:20250220T180000Z
X-MICROSOFT-CDO-ALLDAYEVENT:FALSE
SUMMARY:Firescaping Lunch & Learn
DESCRIPTION:Come hear local Forestry Service Agents explain ways to landscape your yard that helps to protect against wildfires. A list of the most flammable plants and other handouts will be provided.
X-ALT-DESC;FMTTYPE=text/html:Come hear local Forestry Service Agents explain ways to landscape your yard that helps to protect against wildfires. A list of the most flammable plants and other handouts will be provided.
LOCATION:Bartow County Extension Office 320 W. Cherokee Avenue Cartersville\, GA 30120
UID:e.1202.168269
SEQUENCE:3
DTSTAMP:20260422T114527Z
URL:https://business.cartersvillechamber.com/events/details/firescaping-lunch-learn-168269
END:VEVENT

END:VCALENDAR
