BEGIN:VCALENDAR
VERSION:2.0
PRODID:-//ChamberMaster//Event Calendar 2.0//EN
METHOD:PUBLISH
X-PUBLISHED-TTL:P3D
REFRESH-INTERVAL:P3D
CALSCALE:GREGORIAN
BEGIN:VEVENT
DTSTART:20240427T160000Z
DTEND:20240427T190000Z
X-MICROSOFT-CDO-ALLDAYEVENT:FALSE
SUMMARY:Fischer Homes Field Day
DESCRIPTION:You're Invited!\n\nFischer Homes Field Day at\n\nCherry Glen in Euharlee\, GA\n\n\n\nSaturday\, April 27\, 2024\, 12 PM - 3 PM\n\n\n\nJoin us at Cherry Glen SaturdayJoin us at Cherry Glen Saturday\, April 27 from 12 - 3 PM and participate in fun games and activities like corn hole\, water balloon toss\, and other contests to win fun prizes! You'll also enjoy music and food provided by a local food truck!*\n\n\n\nView event flyer to learn more about Cherry Glen.\n\n\n\n*Must check in with a Sales Counselor and participate to win prizes. See Sales Counselor for full details. Information subject to change.  2024 Fischer Homes\, Inc.
X-ALT-DESC;FMTTYPE=text/html:You&#39\;re Invited!<br />\nFischer Homes Field Day at<br />\nCherry Glen in Euharlee\, GA<br />\n<br />\nSaturday\, April 27\, 2024\, 12 PM - 3 PM<br />\n<br />\nJoin us at Cherry Glen SaturdayJoin us at Cherry Glen Saturday\, April 27 from 12 - 3 PM and participate in fun games and activities like corn hole\, water balloon toss\, and other contests to win fun prizes! You&rsquo\;ll also enjoy music and food provided by a local food truck!*<br />\n<br />\n<a href="https://chambermaster.blob.core.windows.net/userfiles/UserFiles/chambers/1202/File/FischerCherryGlenFieldDay2024.pdf" target="_blank">View event flyer</a> to learn more about Cherry Glen.<br />\n<br />\n<em>*Must check in with a Sales Counselor and participate to win prizes. See Sales Counselor for full details. Information subject to change. &copy\;2024 Fischer Homes\, Inc.</em>
LOCATION:Take I-75 N. Take exit 285 for Red Top Mtn Rd. Turn left onto Red Top Mtn Rd SE. Turn right to stay on Red Top Mtn Rd SE. Turn right onto Joe Frank Harris Pkwy SE/US Hwy 41 N. Turn left onto S Bridge Dr. Continue onto S Erwin St. Turn right onto Old Mill Rd. Turn left onto GA-113 S/GA-61 S/West Ave. Turn right onto Euharlee Rd SW. Turn left onto Cliff Nelson Rd.
UID:e.1202.164380
SEQUENCE:3
DTSTAMP:20260423T021300Z
URL:https://business.cartersvillechamber.com/events/details/fischer-homes-field-day-164380
END:VEVENT

END:VCALENDAR
