BEGIN:VCALENDAR
VERSION:2.0
PRODID:-//ChamberMaster//Event Calendar 2.0//EN
METHOD:PUBLISH
X-PUBLISHED-TTL:P3D
REFRESH-INTERVAL:P3D
CALSCALE:GREGORIAN
BEGIN:VEVENT
DTSTART:20250506T190000Z
DTEND:20250506T200000Z
X-MICROSOFT-CDO-ALLDAYEVENT:FALSE
SUMMARY:Food Talk
DESCRIPTION:It's Farmers Market season! Join us to discover the advantages of eating seasonally with our friends from the University of Georgia Extension Program. You'll learn valuable tips and receive a "What's in Season" handout\, a reusable grocery bag\, and other items.
X-ALT-DESC;FMTTYPE=text/html:<span style="color:rgb(62\, 62\, 62)\; font-family:system-ui\; font-size:12.8px">It&rsquo\;s Farmers Market season! Join us to discover the advantages of eating seasonally with our friends from the University of Georgia Extension Program. You&#39\;ll learn valuable tips and receive a &quot\;What&#39\;s in Season&quot\; handout\, a reusable grocery bag\, and other items.</span>
LOCATION:Cartersville Library Classroom
UID:e.1202.170895
SEQUENCE:3
DTSTAMP:20260422T080342Z
URL:https://business.cartersvillechamber.com/events/details/food-talk-170895
END:VEVENT

END:VCALENDAR
