BEGIN:VCALENDAR
VERSION:2.0
PRODID:-//ChamberMaster//Event Calendar 2.0//EN
METHOD:PUBLISH
X-PUBLISHED-TTL:P3D
REFRESH-INTERVAL:P3D
CALSCALE:GREGORIAN
BEGIN:VEVENT
DTSTART:20240605T150000Z
DTEND:20240605T170000Z
X-MICROSOFT-CDO-ALLDAYEVENT:FALSE
SUMMARY:"Foundations for Successful Branding" Workshop
DESCRIPTION:"Foundations for Successful Branding" Workshop\n\n\n\nWednesday\, June 5\, 2024\, 11 AM - 1 PM\n\nFee: Free\n\n\n\nRegister Online\n\n\n\nDid you know your brand is like a person? It has purpose\, vision\, values\, personality and a lot more.\n\n\n\nBuilding a successful brand is crucial to your business foundation. Branding provides your business a way to make an impression in the marketplace. Creating your brand's unique voice & style allows you to attract and connect with your audience over and over again. Branding helps to ensure that your marketing stays consistent in the marketplace.\n\n\n\nThis Live Online Workshop will explore the various aspects of Branding:\n\n	Understanding Branding (it's more than a logo or name)\n	Key Elements (visual\, voice)\n	Importance (building trust\, loyalty\, differentiation\, consistency)\n	Examples of Branding\n	When and Where to Implement (website\, social media\, packaging\, messaging)\n\nBy investing time and effort into developing a strong brand\, you create a lasting and positive impression in the marketplace.
X-ALT-DESC;FMTTYPE=text/html:<strong>&quot\;Foundations for Successful Branding</strong><strong>&quot\; Workshop<br />\n<br />\nWednesday\, June 5\, 2024\, 11 AM - 1 PM<br />\nFee: Free</strong><br />\n<br />\n<a href="https://www.score.org/northmetroatlanta/event/foundations-successful-branding-0" target="_blank">Register Online</a><br />\n<br />\nDid you know your brand is like a person? It has purpose\, vision\, values\, personality and a lot more.<br />\n<br />\nBuilding a successful brand is crucial to your business foundation. Branding provides your business a way to make an impression in the marketplace. Creating your brand&#39\;s unique voice &amp\; style allows you to attract and connect with your audience over and over again. Branding helps to ensure that your marketing stays consistent in the marketplace.<br />\n<br />\nThis <strong>Live Online Workshop</strong> will explore the various aspects of Branding:\n<ul>\n	<li>Understanding Branding (it&#39\;s more than a logo or name)</li>\n	<li>Key Elements (visual\, voice)</li>\n	<li>Importance (building trust\, loyalty\, differentiation\, consistency)</li>\n	<li>Examples of Branding</li>\n	<li>When and Where to Implement (website\, social media\, packaging\, messaging)</li>\n</ul>\nBy investing time and effort into developing a strong brand\, you create a lasting and positive impression in the marketplace.
LOCATION:Online Workshop
UID:e.1202.164802
SEQUENCE:3
DTSTAMP:20260422T230556Z
URL:https://business.cartersvillechamber.com/events/details/foundations-for-successful-branding-workshop-164802
END:VEVENT

END:VCALENDAR
