BEGIN:VCALENDAR
VERSION:2.0
PRODID:-//ChamberMaster//Event Calendar 2.0//EN
METHOD:PUBLISH
X-PUBLISHED-TTL:P3D
REFRESH-INTERVAL:P3D
CALSCALE:GREGORIAN
BEGIN:VEVENT
DTSTART:20270408T200000Z
DTEND:20270409T000000Z
X-MICROSOFT-CDO-ALLDAYEVENT:FALSE
SUMMARY:Free Family Thursday
DESCRIPTION:FREE Family Thursday\, second Thursday of each month.\n\n\n\nIn an effort to make the Museum accessible to individuals and families in the community and surrounding area\, Booth Museum offers free admission on the second Thursday of each month between the hours of 4:00 pm and 8:00 pm.
X-ALT-DESC;FMTTYPE=text/html:FREE Family Thursday\, second Thursday of each month.<br />\n<br />\nIn an effort to make the Museum accessible to individuals and families in the community and surrounding area\, Booth Museum offers free admission on the second Thursday of each month between the hours of 4:00 pm and 8:00 pm.
LOCATION:Booth Museum 501 Museum Drive Cartersville\, GA 30120
UID:e.1202.173748
SEQUENCE:3
DTSTAMP:20260422T092046Z
URL:https://business.cartersvillechamber.com/events/details/free-family-thursday-04-08-2027-173748
END:VEVENT

END:VCALENDAR
