BEGIN:VCALENDAR
VERSION:2.0
PRODID:-//ChamberMaster//Event Calendar 2.0//EN
METHOD:PUBLISH
X-PUBLISHED-TTL:P3D
REFRESH-INTERVAL:P3D
CALSCALE:GREGORIAN
BEGIN:VEVENT
DTSTART:20251216T220000Z
DTEND:20251217T010000Z
X-MICROSOFT-CDO-ALLDAYEVENT:FALSE
SUMMARY:Free Photos with Santa
DESCRIPTION:Free Photos with Santa\n\n\n\nTuesday\, December 16\, 2025\, 5:00 PM - 8:00 PM\n\n101 Public Square\, Adairsville\, GA 30103\n\n\n\nThis is a free event\, so bring the family and tell Santa all you want for Christmas!\n\n\n\nWe will have photos with Santa\, giveaways\, s'more kits\, and scarfs from the Adairsville Lions Club!
X-ALT-DESC;FMTTYPE=text/html:<strong>Free Photos with Santa</strong><br />\n<br />\nTuesday\, December 16\, 2025\, 5:00 PM - 8:00 PM<br />\n101 Public Square\, Adairsville\, GA 30103<br />\n<br />\nThis is a free event\, so bring the family and tell Santa all you want for Christmas!<br />\n<br />\nWe will have photos with Santa\, giveaways\, s&#39\;more kits\, and&nbsp\;scarfs from the Adairsville Lions Club!
LOCATION:101 Public Square Adairsville\, GA 30103
UID:e.1202.172136
SEQUENCE:3
DTSTAMP:20260421T214828Z
URL:https://business.cartersvillechamber.com/events/details/free-photos-with-santa-172136
END:VEVENT

END:VCALENDAR
