BEGIN:VCALENDAR
VERSION:2.0
PRODID:-//ChamberMaster//Event Calendar 2.0//EN
METHOD:PUBLISH
X-PUBLISHED-TTL:P3D
REFRESH-INTERVAL:P3D
CALSCALE:GREGORIAN
BEGIN:VEVENT
DTSTART:20251106T010000Z
DTEND:20251106T021500Z
X-MICROSOFT-CDO-ALLDAYEVENT:FALSE
SUMMARY:Full Moon Hike
DESCRIPTION:Join Rangers on a full moon hike and learn about Red Top Mountain. This hike is a 1-mile round trip on moderate terrain pre-registration required. Sign up at the Visitor Center or by calling 770-975-0055. Parking pass required. Please dress for the weather and bring water hike canceled in the event of inclement weather.
X-ALT-DESC;FMTTYPE=text/html:Join Rangers on a full moon hike and learn about Red Top Mountain. This hike is a 1-mile round trip on moderate terrain&mdash\;pre-registration required. Sign up at the Visitor Center or by calling 770-975-0055. Parking pass required. Please dress for the weather and bring water&mdash\;hike canceled in the event of inclement weather.
LOCATION:Red Top Mountain State Park\, 50 Lodge Rd. Acworth\, GA 30102
UID:e.1202.171998
SEQUENCE:3
DTSTAMP:20260421T230758Z
URL:https://business.cartersvillechamber.com/events/details/full-moon-hike-171998
END:VEVENT

END:VCALENDAR
