BEGIN:VCALENDAR
VERSION:2.0
PRODID:-//ChamberMaster//Event Calendar 2.0//EN
METHOD:PUBLISH
X-PUBLISHED-TTL:P3D
REFRESH-INTERVAL:P3D
CALSCALE:GREGORIAN
BEGIN:VEVENT
DTSTART:20251011T140000Z
DTEND:20251011T180000Z
X-MICROSOFT-CDO-ALLDAYEVENT:FALSE
SUMMARY:Fundraising Car Show
DESCRIPTION:Bartow Center for Intellectual/Developmental Disabilities\n\nFundraising Car Show\n\n\n\nSaturday\, October 11\, 2025\, 10 AM\n\nAwards at 1 PM\n\nDowntown Cartersville\, 1 Friendship Plaza\, Cartersville\, GA 30120\n\n\n\nFeaturing vendors and raffles. Trophies sponsored by Regency Southerncare Hospice. Entry $25.\n\n\n\nFor information or to register: aedwards@bcidd.com
X-ALT-DESC;FMTTYPE=text/html:Bartow Center for Intellectual/Developmental Disabilities<br />\nFundraising Car Show<br />\n<br />\nSaturday\, October 11\, 2025\, 10 AM<br />\nAwards at 1 PM<br />\nDowntown Cartersville\, 1 Friendship Plaza\, Cartersville\, GA 30120<br />\n<br />\nFeaturing vendors and raffles. Trophies sponsored by Regency Southerncare Hospice. Entry $25.<br />\n<br />\nFor information or to register: <a href="mailto:aedwards@bcidd.com">aedwards@bcidd.com</a>
LOCATION:Downtown Cartersville 1 Friendship Plaza Cartersville\, GA 30120
UID:e.1202.171847
SEQUENCE:3
DTSTAMP:20260422T003734Z
URL:https://business.cartersvillechamber.com/events/details/fundraising-car-show-171847
END:VEVENT

END:VCALENDAR
