BEGIN:VCALENDAR
VERSION:2.0
PRODID:-//ChamberMaster//Event Calendar 2.0//EN
METHOD:PUBLISH
X-PUBLISHED-TTL:P3D
REFRESH-INTERVAL:P3D
CALSCALE:GREGORIAN
BEGIN:VEVENT
DTSTART:20240708T130000Z
DTEND:20240712T160000Z
X-MICROSOFT-CDO-ALLDAYEVENT:FALSE
SUMMARY:Game On Summer Camp
DESCRIPTION:Roll your dice\, shuffle your deck\, and grab that controller! Get ready for a week filled with gaming! We'll delve into card games\, board games\, video games\, and everything in between. We'll even have the opportunity to create our very own board game. Player 1\, are you ready? *This camp is tailored for children aged 8 to 10 years old.
X-ALT-DESC;FMTTYPE=text/html:Roll your dice\, shuffle your deck\, and grab that controller! Get ready for a week filled with gaming! We&rsquo\;ll delve into card games\, board games\, video games\, and everything in between. We&#39\;ll even have the opportunity to create our very own board game. Player 1\, are you ready? *This camp is tailored for children aged 8 to 10 years old.
LOCATION:Bartow History Museum 4 E. Church Street Cartersville\, GA 30120
UID:e.1202.164325
SEQUENCE:3
DTSTAMP:20260422T214100Z
URL:https://business.cartersvillechamber.com/events/details/game-on-summer-camp-164325
END:VEVENT

END:VCALENDAR
