BEGIN:VCALENDAR
VERSION:2.0
PRODID:-//ChamberMaster//Event Calendar 2.0//EN
METHOD:PUBLISH
X-PUBLISHED-TTL:P3D
REFRESH-INTERVAL:P3D
CALSCALE:GREGORIAN
BEGIN:VEVENT
DTSTART:20260117T150000Z
DTEND:20260117T170000Z
X-MICROSOFT-CDO-ALLDAYEVENT:FALSE
SUMMARY:Garden Journaling Workshop
DESCRIPTION:In this two-hour workshop\, we'll explore various aspects of Garden Journaling. We'll start off with a fun activity of setting our gardening goals for the year\, then advance to creating various pages in our garden journal. We'll explore the various ways we can record the 'happenings' in our backyard. We will play with colored pencils and templates. Absolutely no art skills required. Come join the fun. All supplies provided.
X-ALT-DESC;FMTTYPE=text/html:In this two-hour workshop\, we&rsquo\;ll explore various aspects of Garden Journaling. We&rsquo\;ll start off with a fun activity of setting our gardening goals for the year\, then advance to creating various pages in our garden journal. We&rsquo\;ll explore the various ways we can record the &lsquo\;happenings&rsquo\; in our backyard. We will play with colored pencils and templates. Absolutely no art skills required. Come join the fun. All supplies provided.
LOCATION:Bartow County Extension Office Stiles Auditorium 320 West Cherokee Avenue Cartersville\, GA 30120
UID:e.1202.172145
SEQUENCE:3
DTSTAMP:20260421T201207Z
URL:https://business.cartersvillechamber.com/events/details/garden-journaling-workshop-172145
END:VEVENT

END:VCALENDAR
