BEGIN:VCALENDAR
VERSION:2.0
PRODID:-//ChamberMaster//Event Calendar 2.0//EN
METHOD:PUBLISH
X-PUBLISHED-TTL:P3D
REFRESH-INTERVAL:P3D
CALSCALE:GREGORIAN
BEGIN:VEVENT
DTSTART:20241010T140000Z
DTEND:20241010T180000Z
X-MICROSOFT-CDO-ALLDAYEVENT:FALSE
SUMMARY:Georgia AIM Cyber Security Workshop
DESCRIPTION:Georgia AIM Cyber Security Workshop\n\n\n\nThursday\, October 10\, 2024\, 10 AM - 2 PM\n\nGeorgia Highlands College\n\n5441 Georgia 20\, Cartersville\, GA 30121\n\n\n\nRegister for Free Here\n\n\n\nArtificial Intelligence (AI) is revolutionizing the manufacturing industry\, but with increased connectivity comes heightened cyber risk. This workshop is designed specifically for manufacturing professionals and local officials seeking to harness the power of AI while safeguarding their operations.\n\n\n\nJoin us to explore the latest threats and vulnerabilities and discover practical strategies to protect your critical infrastructure. Whether you're just starting your AI journey or looking to enhance your existing initiatives\, this workshop will equip you with the knowledge and tools to build secure and resilient processes.
X-ALT-DESC;FMTTYPE=text/html:Georgia AIM Cyber Security Workshop<br />\n<br />\nThursday\, October 10\, 2024\, 10 AM - 2 PM<br />\nGeorgia Highlands College<br />\n5441 Georgia 20\, Cartersville\, GA 30121<br />\n<br />\n<a href="https://www.eventbrite.com/e/georgia-aim-cyber-security-workshop-cartersville-ga-tickets-1033806120937" target="_blank">Register for Free Here</a><br />\n<br />\nArtificial Intelligence (AI) is revolutionizing the manufacturing industry\, but with increased connectivity comes heightened cyber risk. This workshop is designed specifically for manufacturing professionals and local officials seeking to harness the power of AI while safeguarding their operations.<br />\n<br />\nJoin us to explore the latest threats and vulnerabilities and discover practical strategies to protect your critical infrastructure. Whether you&#39\;re just starting your AI journey or looking to enhance your existing initiatives\, this workshop will equip you with the knowledge and tools to build secure and resilient processes.
LOCATION:Georgia Highlands College 5441 Georgia 20 Cartersville\, GA 30121
UID:e.1202.166700
SEQUENCE:3
DTSTAMP:20260422T170059Z
URL:https://business.cartersvillechamber.com/events/details/georgia-aim-cyber-security-workshop-166700
END:VEVENT

END:VCALENDAR
