BEGIN:VCALENDAR
VERSION:2.0
PRODID:-//ChamberMaster//Event Calendar 2.0//EN
METHOD:PUBLISH
X-PUBLISHED-TTL:P3D
REFRESH-INTERVAL:P3D
CALSCALE:GREGORIAN
BEGIN:VEVENT
DTSTART:20230308T140000Z
DTEND:20230308T190000Z
X-MICROSOFT-CDO-ALLDAYEVENT:FALSE
SUMMARY:Georgia Chamber's Women Who Lead
DESCRIPTION:Georgia Chamber's\n\nWomen Who Lead\n\nPresented by Georgia Power\n\n\n\nWednesday\, March 8\, 2023\, 9 AM - 2 PM\n\nUGA Tifton Campus Conference Center\n\n15 R D C Road\, Tifton\, GA 31793\n\n\n\n"Women Who Lead"\, presented by Georgia Power\, will bring the experience\, wisdom\, and energy of women leaders together in a one-day event in Tifton. From panels on shattering the glass ceiling to redefining work/life balance\, hear directly from incredible speakers\, participate in relevant breakout sessions\, and network with fellow attendees as we promote the influence of women in the workplace and beyond. Click here to view our current program agenda and find out more about our panels\, breakout sessions\, speakers\, and more!\n\n\n\nRegister Online
X-ALT-DESC;FMTTYPE=text/html:<span style="font-size:18px\;"><strong>Georgia Chamber&#39\;s<br />\nWomen Who Lead</strong></span><br />\n<em>Presented by Georgia Power</em><br />\n<br />\n<strong>Wednesday\, March 8\, 2023\, 9 AM - 2 PM<br />\nUGA Tifton Campus Conference Center</strong><br />\n15 R D C Road\, Tifton\, GA 31793<br />\n<br />\n&ldquo\;Women Who Lead&rdquo\;\, presented by <a href="https://www.georgiapower.com/" target="_blank">Georgia Power</a>\, will bring the experience\, wisdom\, and energy of women leaders together in a one-day event in Tifton. From panels on shattering the glass ceiling to redefining work/life balance\, hear directly from incredible speakers\, participate in relevant breakout sessions\, and network with fellow attendees as we promote the influence of women in the workplace and beyond. <a href="https://www.gachamber.com/events/women-who-lead/" target="_blank">Click here</a>&nbsp\;to view our current program agenda and find out more about our panels\, breakout sessions\, speakers\, and more!<br />\n<br />\n<a href="https://www.gachamber.com/events/women-who-lead/" target="_blank">Register Online</a>
LOCATION:UGA Tifton Campus Conference Center 15 R D C Road Tifton\, GA 31793
UID:e.1202.157276
SEQUENCE:3
DTSTAMP:20260423T203115Z
URL:https://business.cartersvillechamber.com/events/details/georgia-chamber-s-women-who-lead-157276
END:VEVENT

END:VCALENDAR
