BEGIN:VCALENDAR
VERSION:2.0
PRODID:-//ChamberMaster//Event Calendar 2.0//EN
METHOD:PUBLISH
X-PUBLISHED-TTL:P3D
REFRESH-INTERVAL:P3D
CALSCALE:GREGORIAN
BEGIN:VEVENT
DTSTART:20250417T190000Z
DTEND:20250417T203000Z
X-MICROSOFT-CDO-ALLDAYEVENT:FALSE
SUMMARY:Get Fit\, Stay Fit
DESCRIPTION:Wanna feel summer ready? Come listen to Coach Brenda McCauley from Anytime Fitness talk to you about nutrition and give you tips on getting fit and staying fit! Plus\, get a free demonstration of their small group class! Gym clothing is encouraged. Registration is required. Adults only\, please.
X-ALT-DESC;FMTTYPE=text/html:<span style="color:rgb(0\, 0\, 0)\; font-family:arial\,helvetica\,sans-serif\; font-size:14.6667px">Wanna feel summer ready? Come listen to Coach Brenda McCauley from Anytime Fitness talk to you about nutrition and give you tips on getting fit and staying fit! Plus\, get a free demonstration of their small group class! Gym clothing is encouraged. Registration is required. Adults only\, please.</span>
LOCATION:Cartersville Library Classroom
UID:e.1202.170539
SEQUENCE:3
DTSTAMP:20260422T091643Z
URL:https://business.cartersvillechamber.com/events/details/get-fit-stay-fit-170539
END:VEVENT

END:VCALENDAR
