BEGIN:VCALENDAR
VERSION:2.0
PRODID:-//ChamberMaster//Event Calendar 2.0//EN
METHOD:PUBLISH
X-PUBLISHED-TTL:P3D
REFRESH-INTERVAL:P3D
CALSCALE:GREGORIAN
BEGIN:VEVENT
DTSTART:20251025T140000Z
DTEND:20251025T150000Z
X-MICROSOFT-CDO-ALLDAYEVENT:FALSE
SUMMARY:Get to Know Libby and Palace Project
DESCRIPTION:Do you want to start reading ebooks\, or listen to audiobooks? Bartow County Library has two apps to help you. This information session will help you learn how to use both apps.
X-ALT-DESC;FMTTYPE=text/html:<div>Do you want to start reading ebooks\, or listen to audiobooks? Bartow County Library has two apps to help you. This information session will help you learn how to use both apps.</div>\n\n<div>&nbsp\;</div>\n
LOCATION:Cartersville Public Library
UID:e.1202.171888
SEQUENCE:3
DTSTAMP:20260422T003610Z
URL:https://business.cartersvillechamber.com/events/details/get-to-know-libby-and-palace-project-171888
END:VEVENT

END:VCALENDAR
