BEGIN:VCALENDAR
VERSION:2.0
PRODID:-//ChamberMaster//Event Calendar 2.0//EN
METHOD:PUBLISH
X-PUBLISHED-TTL:P3D
REFRESH-INTERVAL:P3D
CALSCALE:GREGORIAN
BEGIN:VEVENT
DTSTART:20241020T190000Z
DTEND:20241020T220000Z
X-MICROSOFT-CDO-ALLDAYEVENT:FALSE
SUMMARY:GHC Field Naming Celebration
DESCRIPTION:Join us for a free and fun community celebration for the whole family! Georgia Highlands College will name and dedicate the new Carol Brown softball and the Cdr. Robert Bentley USN (Ret) baseball field. We will have a home run derby\, softball bingo\, inflatables\, prizes\, giveaways and more!
X-ALT-DESC;FMTTYPE=text/html:Join us for a free and fun community celebration for the whole family! Georgia Highlands College will name and dedicate the new Carol Brown softball and the Cdr. Robert Bentley USN (Ret) baseball field. We will have a home run derby\, softball bingo\, inflatables\, prizes\, giveaways and more!
LOCATION:The new athletic complex is between the GHC Cartersville Campus and the Savoy Automobile Museum. The address for the GHC Campus is 5441 GA-20\, Cartersville
UID:e.1202.166943
SEQUENCE:3
DTSTAMP:20260422T172110Z
URL:https://business.cartersvillechamber.com/events/details/ghc-field-naming-celebration-166943
END:VEVENT

END:VCALENDAR
