BEGIN:VCALENDAR
VERSION:2.0
PRODID:-//ChamberMaster//Event Calendar 2.0//EN
METHOD:PUBLISH
X-PUBLISHED-TTL:P3D
REFRESH-INTERVAL:P3D
CALSCALE:GREGORIAN
BEGIN:VEVENT
DTSTART:20250918T223000Z
DTEND:20250919T023000Z
X-MICROSOFT-CDO-ALLDAYEVENT:FALSE
SUMMARY:GHC Scholarship Gala
DESCRIPTION:Georgia Highlands College Foundation presents the Highlands Scholarship Gala. Join us for a wonderful evening and together we can help Georgia Highlands students fulfill their dreams of earning a college degree. Dinner\, dancing\, silent auction and special guest former Atlanta Brave\, Sid Bream.
X-ALT-DESC;FMTTYPE=text/html:Georgia Highlands College Foundation presents the Highlands Scholarship Gala. Join us for a wonderful evening and together we can help Georgia Highlands students fulfill their dreams of earning a college degree. Dinner\, dancing\, silent auction and special guest former Atlanta Brave\, Sid Bream.
LOCATION:The Forum River Center\, Rome\, GA
UID:e.1202.171534
SEQUENCE:3
DTSTAMP:20260422T021010Z
URL:https://business.cartersvillechamber.com/events/details/ghc-scholarship-gala-171534
END:VEVENT

END:VCALENDAR
