BEGIN:VCALENDAR
VERSION:2.0
PRODID:-//ChamberMaster//Event Calendar 2.0//EN
METHOD:PUBLISH
X-PUBLISHED-TTL:P3D
REFRESH-INTERVAL:P3D
CALSCALE:GREGORIAN
BEGIN:VEVENT
DTSTART:20251209T230000Z
DTEND:20251210T010000Z
X-MICROSOFT-CDO-ALLDAYEVENT:FALSE
SUMMARY:Gingerbread House Decorating Party
DESCRIPTION:Gingerbread House Decorating Party\n\n\n\nDecember 9\, 2025 at 6 PM\n\nBeavers Drive Senior Center\, 33 Beavers Drive\, Cartersville\, GA 30120\n\n\n\n$20 per person\, ages 4 and up\n\nRegister online at bartowcountyga.gov
X-ALT-DESC;FMTTYPE=text/html:Gingerbread House Decorating Party<br />\n<br />\nDecember 9\, 2025 at 6 PM<br />\nBeavers Drive Senior Center\, 33 Beavers Drive\, Cartersville\, GA 30120<br />\n<br />\n$20 per person\, ages 4 and up<br />\nRegister online at <a href="https://bartowcountyga.gov" target="_blank">bartowcountyga.gov</a>
LOCATION:Beavers Drive Senior Center 33 Beavers Drive Cartersville\, GA 30120
UID:e.1202.172093
SEQUENCE:3
DTSTAMP:20260421T214510Z
URL:https://business.cartersvillechamber.com/events/details/gingerbread-house-decorating-party-172093
END:VEVENT

END:VCALENDAR
