BEGIN:VCALENDAR
VERSION:2.0
PRODID:-//ChamberMaster//Event Calendar 2.0//EN
METHOD:PUBLISH
X-PUBLISHED-TTL:P3D
REFRESH-INTERVAL:P3D
CALSCALE:GREGORIAN
BEGIN:VEVENT
DTSTART:20250204T230000Z
DTEND:20250205T010000Z
X-MICROSOFT-CDO-ALLDAYEVENT:FALSE
SUMMARY:Glenda Mitchell Paralegal Certificate Program (Through 4/22/25)
DESCRIPTION:The Glenda Mitchell Paralegal Certificate Program at GHC's Cartersville Campus is designed to equip you with the skills and knowledge needed to excel as a paralegal. This comprehensive program includes 12 courses\, each held for two hours\, one night per week. Local attorneys will guide you through practical and theoretical aspects of the profession\, ensuring you are well-prepared for a successful career in the legal field. Join us in person at the Cartersville Campus to start your journey towards becoming a proficient paralegal. Textbooks are included in the registration fee.
X-ALT-DESC;FMTTYPE=text/html:The Glenda Mitchell Paralegal Certificate Program at GHC&#39\;s Cartersville Campus is designed to equip you with the skills and knowledge needed to excel as a paralegal. This comprehensive program includes 12 courses\, each held for two hours\, one night per week. Local attorneys will guide you through practical and theoretical aspects of the profession\, ensuring you are well-prepared for a successful career in the legal field. Join us in person at the Cartersville Campus to start your journey towards becoming a proficient paralegal. Textbooks are included in the registration fee.
LOCATION:GHC Cartersville Campus
UID:e.1202.167626
SEQUENCE:3
DTSTAMP:20260422T115559Z
URL:https://business.cartersvillechamber.com/events/details/glenda-mitchell-paralegal-certificate-program-through-4-22-25-167626
END:VEVENT

END:VCALENDAR
