BEGIN:VCALENDAR
VERSION:2.0
PRODID:-//ChamberMaster//Event Calendar 2.0//EN
METHOD:PUBLISH
X-PUBLISHED-TTL:P3D
REFRESH-INTERVAL:P3D
CALSCALE:GREGORIAN
BEGIN:VEVENT
DTSTART:20251210T230000Z
DTEND:20251211T013000Z
X-MICROSOFT-CDO-ALLDAYEVENT:FALSE
SUMMARY:Glow Bike Ride
DESCRIPTION:Glow Bike Ride\n\n\n\nDecember 10\, 2025\, 6:00 PM - 8:30 PM\n\nMeet at Houston Suggs Gym\, 35 Beavers Drive\, Cartersville\, GA 30120\n\n\n\nFree entry! Featuring at Meet & Greet with the Grinch!
X-ALT-DESC;FMTTYPE=text/html:Glow Bike Ride<br />\n<br />\nDecember 10\, 2025\, 6:00 PM - 8:30 PM<br />\nMeet at Houston Suggs Gym\, 35 Beavers Drive\, Cartersville\, GA 30120<br />\n<br />\nFree entry! Featuring at Meet &amp\; Greet with the Grinch!
LOCATION:Meet at Houston Suggs Gym 35 Beavers Drive Cartersville\, GA 30120
UID:e.1202.172094
SEQUENCE:3
DTSTAMP:20260421T214639Z
URL:https://business.cartersvillechamber.com/events/details/glow-bike-ride-172094
END:VEVENT

END:VCALENDAR
