BEGIN:VCALENDAR
VERSION:2.0
PRODID:-//ChamberMaster//Event Calendar 2.0//EN
METHOD:PUBLISH
X-PUBLISHED-TTL:P3D
REFRESH-INTERVAL:P3D
CALSCALE:GREGORIAN
BEGIN:VEVENT
DTSTART:20240522T170000Z
DTEND:20240522T180000Z
X-MICROSOFT-CDO-ALLDAYEVENT:FALSE
SUMMARY:"Google Analytics for Small Businesses - How to Improve Your Website Traffic" Workshop
DESCRIPTION:Google Analytics for Small Businesses - How to Improve Your Website Traffic\n\n\n\nWednesday\, May 22\, 2024\, 1 PM - 2 PM\n\nFee: Free\n\n\n\nTo maximize your business website's return on investment\, you need to be able to track its performance. Google Analytics allows you to see where your website traffic is coming from\, identify your top-performing channels and gain insight into your visitors' behavior.\n\n\n\nIn this webinar\, you'll learn the basics of Google Analytics\, how to track your website's performance\, and how to turn these insights into action. Finally\, you'll learn how to increase leads and sales using the data you collect.\n\n\n\nLearning objectives:\n\n	How to set up Google Analytics for your website\n	How tracking conversions can guide your marketing strategy\n	Which analytics reports you should focus on\n	How to enhance both your website and marketing campaigns using the data you've collected\n\n\n\nRegister Online
X-ALT-DESC;FMTTYPE=text/html:<strong>Google Analytics for Small Businesses - How to Improve Your Website Traffic</strong><br />\n<br />\n<strong>Wednesday\, May 22\, 2024</strong><strong>\, 1 PM - 2 PM<br />\nFee: Free</strong><br />\n<br />\nTo maximize your business website&#39\;s return on investment\, you need to be able to track its performance. Google Analytics allows you to see where your website traffic is coming from\, identify your top-performing channels and gain insight into your visitors&#39\; behavior.<br />\n<br />\nIn this webinar\, you&rsquo\;ll learn the basics of Google Analytics\, how to track your website&#39\;s performance\, and how to turn these insights into action. Finally\, you&rsquo\;ll learn how to increase leads and sales using the data you collect.<br />\n<br />\nLearning objectives:\n<ul>\n	<li>How to set up Google Analytics for your website</li>\n	<li>How tracking conversions can guide your marketing strategy</li>\n	<li>Which analytics reports you should focus on</li>\n	<li>How to enhance both your website and marketing campaigns using the data you&rsquo\;ve collected</li>\n</ul>\n<br />\n<a href="https://www.score.org/event/google-analytics-small-businesses-how-improve-your-website-traffic" target="_blank"><strong>Register Online</strong></a>
LOCATION:Online Workshop
UID:e.1202.165602
SEQUENCE:3
DTSTAMP:20260423T004344Z
URL:https://business.cartersvillechamber.com/events/details/google-analytics-for-small-businesses-how-to-improve-your-website-traffic-workshop-165602
END:VEVENT

END:VCALENDAR
