BEGIN:VCALENDAR
VERSION:2.0
PRODID:-//ChamberMaster//Event Calendar 2.0//EN
METHOD:PUBLISH
X-PUBLISHED-TTL:P3D
REFRESH-INTERVAL:P3D
CALSCALE:GREGORIAN
BEGIN:VEVENT
DTSTART:20250607T140000Z
DTEND:20250607T170000Z
X-MICROSOFT-CDO-ALLDAYEVENT:FALSE
SUMMARY:GRAND OPENING: Tend and Release Physical therapy
DESCRIPTION:Start Your Path to Restoration Today. Drop in for freebies\, snacks\, and to meet Dr. Alyssa Richardson (Shedlarski) --Doctor of Physical Therapy\, Certified Orthopedic Manual Therapist\, AND Owner of Tend and Release PT and Wellness! At Tend and Release Physical Therapy and Wellness\, we value quality care. We are here to walk alongside you as we navigate the necessary steps to reduce your pain\, stop incontinence\, increase functional strength and improve your quality of life.
X-ALT-DESC;FMTTYPE=text/html:Start Your Path to Restoration Today. Drop in for freebies\, snacks\, and to meet Dr. Alyssa Richardson (Shedlarski) --Doctor of Physical Therapy\, Certified Orthopedic Manual Therapist\, AND Owner of Tend and Release PT and Wellness! At Tend and Release Physical Therapy and Wellness\, we value quality care. We are here to walk alongside you as we navigate the necessary steps to reduce your pain\, stop incontinence\, increase functional strength and improve your quality of life.
LOCATION:913 N Tennessee St\, Cartersville\, GA 30120
UID:e.1202.171029
SEQUENCE:3
DTSTAMP:20260422T062353Z
URL:https://business.cartersvillechamber.com/events/details/grand-opening-tend-and-release-physical-therapy-171029
END:VEVENT

END:VCALENDAR
