BEGIN:VCALENDAR
VERSION:2.0
PRODID:-//ChamberMaster//Event Calendar 2.0//EN
METHOD:PUBLISH
X-PUBLISHED-TTL:P3D
REFRESH-INTERVAL:P3D
CALSCALE:GREGORIAN
BEGIN:VEVENT
DTSTART:20250620T210000Z
DTEND:20250624T010000Z
X-MICROSOFT-CDO-ALLDAYEVENT:FALSE
SUMMARY:Grand Opening Weekend
DESCRIPTION:Join us for our first weekend at our new location in Cherokee County! Located at 535 Riverstone Pkwy in Canton\, Mission: Escape is expanding! If you've enjoyed the 3 escape room adventures in Cartersville\, we hope you'll consider making the short drive to Canton for our 4th adventure\, Mission: Soliloquy! Bookings open on 6/13 with mission times beginning on 6/20. See you there\, Agents!
X-ALT-DESC;FMTTYPE=text/html:Join us for our first weekend at our new location in Cherokee County! Located at 535 Riverstone Pkwy in Canton\, Mission: Escape is expanding! If you&#39\;ve enjoyed the 3 escape room adventures in Cartersville\, we hope you&#39\;ll consider making the short drive to Canton for our 4th adventure\, Mission: Soliloquy! Bookings open on 6/13 with mission times beginning on 6/20. See you there\, Agents!
LOCATION:535 Riverstone Parkway\, Ste 206\, Canton\, GA 30114
UID:e.1202.171039
SEQUENCE:3
DTSTAMP:20260422T062342Z
URL:https://business.cartersvillechamber.com/events/details/grand-opening-weekend-171039
END:VEVENT

END:VCALENDAR
