BEGIN:VCALENDAR
VERSION:2.0
PRODID:-//ChamberMaster//Event Calendar 2.0//EN
METHOD:PUBLISH
X-PUBLISHED-TTL:P3D
REFRESH-INTERVAL:P3D
CALSCALE:GREGORIAN
BEGIN:VEVENT
DTSTART:20240428T180000Z
DTEND:20240428T200000Z
X-MICROSOFT-CDO-ALLDAYEVENT:FALSE
SUMMARY:Grief Share
DESCRIPTION:Grief Share - starting January 28\, 2024 Help and hope after the death of a loved one. A 13-week faith-based program helping to heal emotions and cope with the stresses of life following the death of a loved one. Sunday afternoons 2-4 Call 404-771-7438 for more information.
X-ALT-DESC;FMTTYPE=text/html:Grief Share - starting January 28\, 2024 Help and hope after the death of a loved one. A 13-week faith-based program helping to heal emotions and cope with the stresses of life following the death of a loved one. Sunday afternoons 2-4 Call 404-771-7438 for more information.
LOCATION:The Church at Liberty Square 2001 Liberty Square Drive
UID:e.1202.163131
SEQUENCE:3
DTSTAMP:20260423T021343Z
URL:https://business.cartersvillechamber.com/events/details/grief-share-04-28-2024-163131
END:VEVENT

END:VCALENDAR
