BEGIN:VCALENDAR
VERSION:2.0
PRODID:-//ChamberMaster//Event Calendar 2.0//EN
METHOD:PUBLISH
X-PUBLISHED-TTL:P3D
REFRESH-INTERVAL:P3D
CALSCALE:GREGORIAN
BEGIN:VEVENT
DTSTART:20250913T213000Z
DTEND:20250914T020000Z
X-MICROSOFT-CDO-ALLDAYEVENT:FALSE
SUMMARY:GrooveFest
DESCRIPTION:GrooveFest\n\n\n\nSaturday\, September 13\, 2025\, 5:30 PM - 10:00 PM\n\nDowntown Cartersville\n\n\n\nA Celebration of Community\, R&B\, & Jazz Across Generations
X-ALT-DESC;FMTTYPE=text/html:GrooveFest<br />\n<br />\nSaturday\, September 13\, 2025\, 5:30 PM - 10:00 PM<br />\nDowntown Cartersville<br />\n<br />\nA Celebration of Community\, R&amp\;B\, &amp\; Jazz Across Generations
LOCATION:Downtown Cartersville 1 Friendship Plaza Cartersville\, GA 30120
UID:e.1202.171809
SEQUENCE:3
DTSTAMP:20260422T020835Z
URL:https://business.cartersvillechamber.com/events/details/groovefest-171809
END:VEVENT

END:VCALENDAR
