BEGIN:VCALENDAR
VERSION:2.0
PRODID:-//ChamberMaster//Event Calendar 2.0//EN
METHOD:PUBLISH
X-PUBLISHED-TTL:P3D
REFRESH-INTERVAL:P3D
CALSCALE:GREGORIAN
BEGIN:VEVENT
DTSTART:20241206T150000Z
DTEND:20241206T163000Z
X-MICROSOFT-CDO-ALLDAYEVENT:FALSE
SUMMARY:"Grow Your Business Using LinkedIn Without Spending a Dime" Workshop
DESCRIPTION:"Grow Your Business Using LinkedIn Without Spending a Dime" Online Workshop\n\n\n\nFriday\, December 6\, 2024\, 10 AM - 11:30 AM\n\nOnline Workshop\n\nFee: $20\n\n\n\nAre you looking to establish yourself as an influencer and thought leader in your industry? This interactive session\, led by LinkedIn marketing expert Sheryl Cattell\, will show you how to increase your presence and impact on LinkedIn\, the world's largest professional network. This Live Online Workshop will focus on the ways that business people can leverage LinkedIn to build their credibility and business leads without spending a dime. Participants will come away with practical tips and a checklist of best practices for creating memorable content on LinkedIn that will attract your ideal customer.\n\n\n\nThe topics covered in the webinar include:\n\n	Creating a business page on LinkedIn\n	Establishing the goals for your business presence on LinkedIn\n	Connecting with the target companies\, job titles\, and influencers in your "space"\n	Developing a pillar and cluster content strategy to support your business goals\n	Getting more mileage from your posts (from hundreds to thousands of views)\n	Learning the pros and cons of hosting an event on LinkedIn\n\n\n\nRegister Online
X-ALT-DESC;FMTTYPE=text/html:<strong>&quot\;Grow Your Business Using LinkedIn Without Spending a Dime</strong><strong>&quot\; Online Workshop</strong><br />\n<br />\n<strong>Friday\, December 6\, 2024\, 10 AM - 11:30 AM<br />\nOnline Workshop<br />\nFee: $20</strong><br />\n<br />\nAre you looking to establish yourself as an influencer and thought leader in your industry? This interactive session\, led by LinkedIn marketing expert Sheryl Cattell\, will show you how to increase your presence and impact on LinkedIn\, the world&rsquo\;s largest professional network. This <strong>Live Online Workshop</strong> will focus on the ways that business people can leverage LinkedIn to build their credibility and business leads without spending a dime. Participants will come away with practical tips and a checklist of best practices for creating memorable content on LinkedIn that will attract your ideal customer.<br />\n<br />\nThe topics covered in the webinar include:\n<ul>\n	<li>Creating a business page on LinkedIn</li>\n	<li>Establishing the goals for your business presence on LinkedIn</li>\n	<li>Connecting with the target companies\, job titles\, and influencers in your &ldquo\;space&rdquo\;</li>\n	<li>Developing a pillar and cluster content strategy to support your business goals</li>\n	<li>Getting more mileage from your posts (from hundreds to thousands of views)</li>\n	<li>Learning the pros and cons of hosting an event on LinkedIn</li>\n</ul>\n<br />\n<strong><a href="https://www.score.org/northmetroatlanta/event/using-linkedin-grow-your-business-without-spending-a-dime-2" target="_blank">Register Online</a></strong>
LOCATION:Online Workshop
UID:e.1202.166970
SEQUENCE:3
DTSTAMP:20260422T143843Z
URL:https://business.cartersvillechamber.com/events/details/grow-your-business-using-linkedin-without-spending-a-dime-workshop-166970
END:VEVENT

END:VCALENDAR
