BEGIN:VCALENDAR
VERSION:2.0
PRODID:-//ChamberMaster//Event Calendar 2.0//EN
METHOD:PUBLISH
X-PUBLISHED-TTL:P3D
REFRESH-INTERVAL:P3D
CALSCALE:GREGORIAN
BEGIN:VEVENT
DTSTART:20240713T140000Z
DTEND:20240713T160000Z
X-MICROSOFT-CDO-ALLDAYEVENT:FALSE
SUMMARY:Growing Herbs: Kitchen Container Garden
DESCRIPTION:This workshop will provide the supplies and instructions to make your very own kitchen herb garden!
X-ALT-DESC;FMTTYPE=text/html:This workshop will provide the supplies and instructions to make your very own kitchen herb garden!
LOCATION:Bartow Extension Office Stiles Auditorium 320 West Cherokee Avenue Cartersville\, GA 30120
UID:e.1202.165983
SEQUENCE:3
DTSTAMP:20260422T214100Z
URL:https://business.cartersvillechamber.com/events/details/growing-herbs-kitchen-container-garden-165983
END:VEVENT

END:VCALENDAR
