BEGIN:VCALENDAR
VERSION:2.0
PRODID:-//ChamberMaster//Event Calendar 2.0//EN
METHOD:PUBLISH
X-PUBLISHED-TTL:P3D
REFRESH-INTERVAL:P3D
CALSCALE:GREGORIAN
BEGIN:VEVENT
DTSTART;VALUE=DATE:20241025
DTEND;VALUE=DATE:20241027
TRANSP:TRANSPARENT
X-MICROSOFT-CDO-ALLDAYEVENT:TRUE
SUMMARY:Halloween Pub Crawl
DESCRIPTION:Join us for a spooky good time on Halloween Pub Crawl!\n\n\n\nThe pub crawl will begin at the start of business on both October 25th & 26th\, and will run until close of bar hours.\n\n\n\nThe price of a ticket is $55 and includes a branded silicone pint glass\, punch card\, and one beverage at each of the 12 participating locations.\n\n\n\nPurchase Pub Crawl Cups Here
X-ALT-DESC;FMTTYPE=text/html:Join us for a spooky good time on Halloween Pub Crawl!<br />\n<br />\nThe pub crawl will begin at the start of business on both October 25th &amp\; 26th\, and will run until close of bar hours.<br />\n<br />\nThe price of a ticket is $55 and includes a branded silicone pint glass\, punch card\, and one beverage at each of the 12 participating locations.<br />\n<br />\n<a href="https://downtowncartersville.org/product-category/events/pub-crawl/" target="_blank">Purchase Pub Crawl Cups Here</a>
LOCATION:Downtown Cartersville
UID:e.1202.164143
SEQUENCE:3
DTSTAMP:20260422T171940Z
URL:https://business.cartersvillechamber.com/events/details/halloween-pub-crawl-164143
END:VEVENT

END:VCALENDAR
