BEGIN:VCALENDAR
VERSION:2.0
PRODID:-//ChamberMaster//Event Calendar 2.0//EN
METHOD:PUBLISH
X-PUBLISHED-TTL:P3D
REFRESH-INTERVAL:P3D
CALSCALE:GREGORIAN
BEGIN:VEVENT
DTSTART;VALUE=DATE:20251024
DTEND;VALUE=DATE:20251026
TRANSP:TRANSPARENT
X-MICROSOFT-CDO-ALLDAYEVENT:TRUE
SUMMARY:Halloween Pub Crawl
DESCRIPTION:Join us for a spooky good time on the Halloween Pub Crawl!\n\n\n\nThe pub crawl will begin at the start of business on both October 24th & 25th\, and will run until close of bar hours.\n\n\n\nThe price of a ticket is $55 and includes a branded silicone pint glass\, punch card\, and one beverage at each of the participating locations.\n\n\n\nPurchase Pub Crawl Cups Here
X-ALT-DESC;FMTTYPE=text/html:Join us for a spooky good time on the Halloween Pub Crawl!<br />\n<br />\nThe pub crawl will begin at the start of business on both October 24th &amp\; 25th\, and will run until close of bar hours.<br />\n<br />\nThe price of a ticket is $55 and includes a branded silicone pint glass\, punch card\, and one beverage at each of the participating locations.<br />\n<br />\n<a href="https://downtowncartersville.org/product/halloween-pub-crawl-2025/?fbclid=IwZXh0bgNhZW0CMTAAYnJpZBExdk1WQUl2ZTZzTWVINEVDcgEe9TeMhaR_8g6pP1NNX5Oi_1Qh-2DoY8Kom6wksBaeDSrg9qTMo-678HV-9TY_aem_DsnztOMbyQl-bGm6FH-mMw" target="_blank">Purchase Pub Crawl Cups Here</a>
LOCATION:Downtown Cartersville
UID:e.1202.171845
SEQUENCE:3
DTSTAMP:20260422T003534Z
URL:https://business.cartersvillechamber.com/events/details/halloween-pub-crawl-171845
END:VEVENT

END:VCALENDAR
