BEGIN:VCALENDAR
VERSION:2.0
PRODID:-//ChamberMaster//Event Calendar 2.0//EN
METHOD:PUBLISH
X-PUBLISHED-TTL:P3D
REFRESH-INTERVAL:P3D
CALSCALE:GREGORIAN
BEGIN:VEVENT
DTSTART:20251216T200000Z
DTEND:20251216T210000Z
X-MICROSOFT-CDO-ALLDAYEVENT:FALSE
SUMMARY:Handmade for the Holidays: Black Out Poet-Tree
DESCRIPTION:Join us for Handmade for the Holidays! On Wednesday the 17th from 3-4pm\, we'll be creating a poetry tree using black-out poetry pieces! Let your creativity fly as we decorate a special display tree for the front desk.
X-ALT-DESC;FMTTYPE=text/html:<span style="color:rgb(62\, 62\, 62)\; font-family:system-ui\; font-size:12.8px">Join us for Handmade for the Holidays! On Wednesday the 17th from 3-4pm\, we&#39\;ll be creating a poetry tree using black-out poetry pieces! Let your creativity fly as we decorate a special display tree for the front desk.&nbsp\;</span>
LOCATION:Cartersville Public Library 429 W Main St Cartersville\, GA 30121
UID:e.1202.172132
SEQUENCE:3
DTSTAMP:20260421T214827Z
URL:https://business.cartersvillechamber.com/events/details/handmade-for-the-holidays-black-out-poet-tree-172132
END:VEVENT

END:VCALENDAR
